BEGIN:VCALENDAR
VERSION:2.0
PRODID:-//ChamberMaster//Event Calendar 2.0//EN
METHOD:PUBLISH
X-PUBLISHED-TTL:P1H
REFRESH-INTERVAL:P1H
CALSCALE:GREGORIAN
BEGIN:VTIMEZONE
TZID:America/Chicago
BEGIN:DAYLIGHT
RRULE:FREQ=YEARLY;BYMONTH=3;BYDAY=2SU
DTSTART:20070101T000000
TZOFFSETFROM:-0600
TZOFFSETTO:-0500
TZNAME:Central Daylight Time
END:DAYLIGHT
BEGIN:STANDARD
RRULE:FREQ=YEARLY;BYMONTH=11;BYDAY=1SU
DTSTART:20070101T000000
TZOFFSETFROM:-0500
TZOFFSETTO:-0600
TZNAME:Central Standard Time
END:STANDARD
END:VTIMEZONE
BEGIN:VEVENT
DTSTART;TZID=America/Chicago:20260917T150000
DTEND;TZID=America/Chicago:20260917T190000
X-MICROSOFT-CDO-ALLDAYEVENT:FALSE
SUMMARY:Ozark Farmers Market at Finley River Park
DESCRIPTION:Ozark Farmers Market has moved location to the Finley River Park.  The market will be open every Thursday from May 14 through September 24.  The weekly hours the market will open will be 3:00 - 7:00 pm.  The first Artisan Market will be held June 4 and will be set up at the Ozark Farmers Market on the first Thurday of the month through September.
X-ALT-DESC;FMTTYPE=text/html:Ozark Farmers Market has moved location to the Finley River Park.  The market will be open every Thursday from May 14 through September 24.  The weekly hours the market will open will be 3:00 - 7:00 pm.  The first Artisan Market will be held June 4 and will be set up at the Ozark Farmers Market on the first Thurday of the month through September.
LOCATION:961 N Riverside Rd Ozark MO 65721
UID:e.4014.1447021
SEQUENCE:3
DTSTAMP:20260421T134912Z
URL:https://business.ozarkchamber.com/event-calendar/Details/ozark-farmers-market-at-finley-river-park-1713845?sourceTypeId=Hub
END:VEVENT
END:VCALENDAR
